BEGIN:VCALENDAR
VERSION:2.0
PRODID:-//eventon.com NONSGML v1.0//EN
CALSCALE:GREGORIAN
METHOD:PUBLISH
BEGIN:VEVENT
UID:69eb43fdcdb5c
DTSTAMP:20260424T102045Z
DTSTART:20220521T070000Z
DTEND:20220521T215000Z
LOCATION:Schießstand Bührener Tannen Friesoyther Straße 136
SUMMARY:Jagdliches Wettkampf-Schießen 2022
DESCRIPTION:Jagdliches Wettkampf-Schießen 2022\nhttps://hegering-garrel.de
 /termine/jagdliches-wettkampf-schiessen-2022/
URL:https://hegering-garrel.de/termine/jagdliches-wettkampf-schiessen-2022/
END:VEVENT
END:VCALENDAR